BEGIN:VCALENDAR
VERSION:2.0
PRODID:-//Cincinnati Church - ECPv6.11.0.1//NONSGML v1.0//EN
CALSCALE:GREGORIAN
METHOD:PUBLISH
X-ORIGINAL-URL:https://cincinnatichurch.org
X-WR-CALDESC:Events for Cincinnati Church
REFRESH-INTERVAL;VALUE=DURATION:PT1H
X-Robots-Tag:noindex
X-PUBLISHED-TTL:PT1H
BEGIN:VTIMEZONE
TZID:America/New_York
BEGIN:DAYLIGHT
TZOFFSETFROM:-0500
TZOFFSETTO:-0400
TZNAME:EDT
DTSTART:20220313T070000
END:DAYLIGHT
BEGIN:STANDARD
TZOFFSETFROM:-0400
TZOFFSETTO:-0500
TZNAME:EST
DTSTART:20221106T060000
END:STANDARD
BEGIN:DAYLIGHT
TZOFFSETFROM:-0500
TZOFFSETTO:-0400
TZNAME:EDT
DTSTART:20230312T070000
END:DAYLIGHT
BEGIN:STANDARD
TZOFFSETFROM:-0400
TZOFFSETTO:-0500
TZNAME:EST
DTSTART:20231105T060000
END:STANDARD
END:VTIMEZONE
BEGIN:VEVENT
DTSTART;TZID=America/New_York:20231014T130000
DTEND;TZID=America/New_York:20231014T160000
DTSTAMP:20260424T035652
CREATED:20230227T052655Z
LAST-MODIFIED:20231001T145652Z
UID:10000941-1697288400-1697299200@cincinnatichurch.org
SUMMARY:Mental Health Workshop: The Psychology of Forgiveness with Dr. Kathy Eastman
DESCRIPTION:Dr. Kathy Eastman will be join us in Cincinnati as a key speaker teaching on The Psychology of Forgiveness\, reframing techniques\, identifying and processing grief\, understanding how building new brain pathways enhances your ability to forgive.
URL:https://cincinnatichurch.org/event/mental-health-workshop-the-psychology-of-forgiveness-with-dr-kathy-eastman/
LOCATION:Church Building – Teen room\, 4220 E galbraith rd\, Cincinnati\, OH\, 45236\, United States
ORGANIZER;CN="Michelle Diekmeyer":MAILTO:mdiekmeyer@gmail.com
END:VEVENT
BEGIN:VEVENT
DTSTART;TZID=America/New_York:20230326T140000
DTEND;TZID=America/New_York:20230326T160000
DTSTAMP:20260424T035652
CREATED:20230227T052306Z
LAST-MODIFIED:20230305T134713Z
UID:10000940-1679839200-1679846400@cincinnatichurch.org
SUMMARY:Mental Health Workshop: God\, Mental Health and Body Image with Dr. Jennifer Konzen
DESCRIPTION:Dr. Jennifer Konzen will be teaching a class on God\, Mental Health and Body Image (women only). Topics include having a healthy\, biblical understanding of our bodies and how mental health has a significant impact on our understanding and relationship with God. This class gives a godly perspective of mental health\, the process of healthy change\, and the importance of a healthy mind and body.
URL:https://cincinnatichurch.org/event/mental-health-workshop-god-mental-health-and-body-image-with-dr-jennifer-konzen/
LOCATION:Church building – auditorium\, 4220 E galbraith rd\, Cincinnati\, OH\, 45231\, United States
ATTACH;FMTTYPE=image/jpeg:https://cincinnatichurch.org/wp-content/uploads/2023/02/made-in-his-image-flyer.jpg
ORGANIZER;CN="Michelle Diekmeyer":MAILTO:mdiekmeyer@gmail.com
END:VEVENT
BEGIN:VEVENT
DTSTART;TZID=America/New_York:20230325T090000
DTEND;TZID=America/New_York:20230325T120000
DTSTAMP:20260424T035652
CREATED:20230227T052108Z
LAST-MODIFIED:20230305T134612Z
UID:10000939-1679734800-1679745600@cincinnatichurch.org
SUMMARY:Mental Health Workshop: Spiritual Disciplines with Dr. Jennifer Konzen
DESCRIPTION:Dr. Jennifer Konzen will be teaching on Spiritual Disciplines (everyone invited). Topics will include the Sabbath\, Lecto Divina\, centering prayer\, reflective journaling\, meditation\, presencing\, solitude and silence\, mindfulness\, and sacred rhythms. This class is for anyone wanting a deeper\, more fulfilling walk with God.
URL:https://cincinnatichurch.org/event/mental-health-workshop-spiritual-disciplines-with-dr-jennifer-konzen/
LOCATION:Church building – auditorium\, 4220 E galbraith rd\, Cincinnati\, OH\, 45231\, United States
ATTACH;FMTTYPE=image/jpeg:https://cincinnatichurch.org/wp-content/uploads/2023/02/how-to-build-discipline.jpg
ORGANIZER;CN="Michelle Diekmeyer":MAILTO:mdiekmeyer@gmail.com
END:VEVENT
BEGIN:VEVENT
DTSTART;TZID=America/New_York:20230324T190000
DTEND;TZID=America/New_York:20230324T210000
DTSTAMP:20260424T035652
CREATED:20230227T051841Z
LAST-MODIFIED:20230305T134459Z
UID:10000938-1679684400-1679691600@cincinnatichurch.org
SUMMARY:Mental Health Workshop: Redeeming Sexuality with Dr. Jennifer Konzen
DESCRIPTION:Dr. Jennifer Konzen will be teaching on redeeming sexuality (for teens\, campus\, singles). Topics will include purity culture\, tough questions from Kyle Spears podcast\, God’s plan for sexuality\, releasing shame\, and how to steward our sexuality.
URL:https://cincinnatichurch.org/event/mental-health-workshop-redeeming-sexuality-with-dr-jennifer-konzen/
LOCATION:Church building – auditorium\, 4220 E galbraith rd\, Cincinnati\, OH\, 45231\, United States
ATTACH;FMTTYPE=image/jpeg:https://cincinnatichurch.org/wp-content/uploads/2023/02/69FA4AC0-3CB6-4102-8613-595AF4B5F37A.jpg
ORGANIZER;CN="Michelle Diekmeyer":MAILTO:mdiekmeyer@gmail.com
END:VEVENT
BEGIN:VEVENT
DTSTART;TZID=America/New_York:20230324T100000
DTEND;TZID=America/New_York:20230324T130000
DTSTAMP:20260424T035652
CREATED:20230227T051634Z
LAST-MODIFIED:20230305T134343Z
UID:10000937-1679652000-1679662800@cincinnatichurch.org
SUMMARY:Mental Health Workshop: Ministry Self-care with Dr. Jennifer Konzen
DESCRIPTION:Dr. Jennifer Konzen will be teaching ministry self-care for staff and elders (all churches). Topics will include compassion fatigue\, secondary trauma and ministry burnout. This class will address the specific needs of clergy and their spouses.
URL:https://cincinnatichurch.org/event/mental-health-workshop-ministry-self-care-with-dr-jennifer-konzen/
LOCATION:Church Building – sanctuary\, 4220 E galbraith rd\, Cincinnati\, OH\, 45236\, United States
ORGANIZER;CN="Michelle Diekmeyer":MAILTO:mdiekmeyer@gmail.com
END:VEVENT
BEGIN:VEVENT
DTSTART;TZID=America/New_York:20221015T140000
DTEND;TZID=America/New_York:20221015T170000
DTSTAMP:20260424T035652
CREATED:20220701T180606Z
LAST-MODIFIED:20221006T052143Z
UID:10000856-1665842400-1665853200@cincinnatichurch.org
SUMMARY:Mental Health Workshop
DESCRIPTION:
URL:https://cincinnatichurch.org/event/mentalhealth/
LOCATION:Church building – auditorium\, 4220 E galbraith rd\, Cincinnati\, OH\, 45231\, United States
ATTACH;FMTTYPE=image/jpeg:https://cincinnatichurch.org/wp-content/uploads/2022/09/image-6.jpg
ORGANIZER;CN="Michelle Diekmeyer":MAILTO:mdiekmeyer@gmail.com
END:VEVENT
END:VCALENDAR