BEGIN:VCALENDAR
VERSION:2.0
PRODID:-//Cincinnati Church - ECPv6.11.0.1//NONSGML v1.0//EN
CALSCALE:GREGORIAN
METHOD:PUBLISH
X-WR-CALNAME:Cincinnati Church
X-ORIGINAL-URL:https://cincinnatichurch.org
X-WR-CALDESC:Events for Cincinnati Church
REFRESH-INTERVAL;VALUE=DURATION:PT1H
X-Robots-Tag:noindex
X-PUBLISHED-TTL:PT1H
BEGIN:VTIMEZONE
TZID:America/New_York
BEGIN:DAYLIGHT
TZOFFSETFROM:-0500
TZOFFSETTO:-0400
TZNAME:EDT
DTSTART:20230312T070000
END:DAYLIGHT
BEGIN:STANDARD
TZOFFSETFROM:-0400
TZOFFSETTO:-0500
TZNAME:EST
DTSTART:20231105T060000
END:STANDARD
END:VTIMEZONE
BEGIN:VEVENT
DTSTART;TZID=America/New_York:20231217T083000
DTEND;TZID=America/New_York:20231217T093000
DTSTAMP:20260421T160113
CREATED:20230801T025633Z
LAST-MODIFIED:20230808T012822Z
UID:10000855-1702801800-1702805400@cincinnatichurch.org
SUMMARY:Sunday School
DESCRIPTION:Bible classes for adults
URL:https://cincinnatichurch.org/event/sunday-school-2023-08-20/2023-12-17/
LOCATION:Cardinal Huddle Room\, 4220 E galbraith rd\, 1st floor\, Cincinnati\, OH\, 45231\, United States
ORGANIZER;CN="Bill Kunes":MAILTO:bkunes@yahoo.com
END:VEVENT
BEGIN:VEVENT
DTSTART;TZID=America/New_York:20231210T083000
DTEND;TZID=America/New_York:20231210T093000
DTSTAMP:20260421T160113
CREATED:20230801T025633Z
LAST-MODIFIED:20230808T012822Z
UID:10000854-1702197000-1702200600@cincinnatichurch.org
SUMMARY:Sunday School
DESCRIPTION:Bible classes for adults
URL:https://cincinnatichurch.org/event/sunday-school-2023-08-20/2023-12-10/
LOCATION:Cardinal Huddle Room\, 4220 E galbraith rd\, 1st floor\, Cincinnati\, OH\, 45231\, United States
ORGANIZER;CN="Bill Kunes":MAILTO:bkunes@yahoo.com
END:VEVENT
BEGIN:VEVENT
DTSTART;TZID=America/New_York:20231203T083000
DTEND;TZID=America/New_York:20231203T093000
DTSTAMP:20260421T160113
CREATED:20230801T025633Z
LAST-MODIFIED:20230808T012822Z
UID:10000853-1701592200-1701595800@cincinnatichurch.org
SUMMARY:Sunday School
DESCRIPTION:Bible classes for adults
URL:https://cincinnatichurch.org/event/sunday-school-2023-08-20/2023-12-03/
LOCATION:Cardinal Huddle Room\, 4220 E galbraith rd\, 1st floor\, Cincinnati\, OH\, 45231\, United States
ORGANIZER;CN="Bill Kunes":MAILTO:bkunes@yahoo.com
END:VEVENT
BEGIN:VEVENT
DTSTART;TZID=America/New_York:20231126T083000
DTEND;TZID=America/New_York:20231126T093000
DTSTAMP:20260421T160113
CREATED:20230801T025633Z
LAST-MODIFIED:20230808T012822Z
UID:10000852-1700987400-1700991000@cincinnatichurch.org
SUMMARY:Sunday School
DESCRIPTION:Bible classes for adults
URL:https://cincinnatichurch.org/event/sunday-school-2023-08-20/2023-11-26/
LOCATION:Cardinal Huddle Room\, 4220 E galbraith rd\, 1st floor\, Cincinnati\, OH\, 45231\, United States
ORGANIZER;CN="Bill Kunes":MAILTO:bkunes@yahoo.com
END:VEVENT
BEGIN:VEVENT
DTSTART;TZID=America/New_York:20231119T083000
DTEND;TZID=America/New_York:20231119T093000
DTSTAMP:20260421T160113
CREATED:20230801T025633Z
LAST-MODIFIED:20230808T012822Z
UID:10000851-1700382600-1700386200@cincinnatichurch.org
SUMMARY:Sunday School
DESCRIPTION:Bible classes for adults
URL:https://cincinnatichurch.org/event/sunday-school-2023-08-20/2023-11-19/
LOCATION:Cardinal Huddle Room\, 4220 E galbraith rd\, 1st floor\, Cincinnati\, OH\, 45231\, United States
ORGANIZER;CN="Bill Kunes":MAILTO:bkunes@yahoo.com
END:VEVENT
BEGIN:VEVENT
DTSTART;TZID=America/New_York:20231112T083000
DTEND;TZID=America/New_York:20231112T093000
DTSTAMP:20260421T160113
CREATED:20230801T025633Z
LAST-MODIFIED:20230808T012822Z
UID:10000850-1699777800-1699781400@cincinnatichurch.org
SUMMARY:Sunday School
DESCRIPTION:Bible classes for adults
URL:https://cincinnatichurch.org/event/sunday-school-2023-08-20/2023-11-12/
LOCATION:Cardinal Huddle Room\, 4220 E galbraith rd\, 1st floor\, Cincinnati\, OH\, 45231\, United States
ORGANIZER;CN="Bill Kunes":MAILTO:bkunes@yahoo.com
END:VEVENT
BEGIN:VEVENT
DTSTART;TZID=America/New_York:20231105T083000
DTEND;TZID=America/New_York:20231105T093000
DTSTAMP:20260421T160113
CREATED:20230801T025633Z
LAST-MODIFIED:20230808T012822Z
UID:10000849-1699173000-1699176600@cincinnatichurch.org
SUMMARY:Sunday School
DESCRIPTION:Bible classes for adults
URL:https://cincinnatichurch.org/event/sunday-school-2023-08-20/2023-11-05/
LOCATION:Cardinal Huddle Room\, 4220 E galbraith rd\, 1st floor\, Cincinnati\, OH\, 45231\, United States
ORGANIZER;CN="Bill Kunes":MAILTO:bkunes@yahoo.com
END:VEVENT
BEGIN:VEVENT
DTSTART;TZID=America/New_York:20231029T083000
DTEND;TZID=America/New_York:20231029T093000
DTSTAMP:20260421T160113
CREATED:20230801T025633Z
LAST-MODIFIED:20230808T012822Z
UID:10000848-1698568200-1698571800@cincinnatichurch.org
SUMMARY:Sunday School
DESCRIPTION:Bible classes for adults
URL:https://cincinnatichurch.org/event/sunday-school-2023-08-20/2023-10-29/
LOCATION:Cardinal Huddle Room\, 4220 E galbraith rd\, 1st floor\, Cincinnati\, OH\, 45231\, United States
ORGANIZER;CN="Bill Kunes":MAILTO:bkunes@yahoo.com
END:VEVENT
BEGIN:VEVENT
DTSTART;TZID=America/New_York:20231022T083000
DTEND;TZID=America/New_York:20231022T093000
DTSTAMP:20260421T160113
CREATED:20230801T025633Z
LAST-MODIFIED:20230808T012822Z
UID:10000847-1697963400-1697967000@cincinnatichurch.org
SUMMARY:Sunday School
DESCRIPTION:Bible classes for adults
URL:https://cincinnatichurch.org/event/sunday-school-2023-08-20/2023-10-22/
LOCATION:Cardinal Huddle Room\, 4220 E galbraith rd\, 1st floor\, Cincinnati\, OH\, 45231\, United States
ORGANIZER;CN="Bill Kunes":MAILTO:bkunes@yahoo.com
END:VEVENT
BEGIN:VEVENT
DTSTART;TZID=America/New_York:20231015T083000
DTEND;TZID=America/New_York:20231015T093000
DTSTAMP:20260421T160113
CREATED:20230801T025633Z
LAST-MODIFIED:20230808T012822Z
UID:10000846-1697358600-1697362200@cincinnatichurch.org
SUMMARY:Sunday School
DESCRIPTION:Bible classes for adults
URL:https://cincinnatichurch.org/event/sunday-school-2023-08-20/2023-10-15/
LOCATION:Cardinal Huddle Room\, 4220 E galbraith rd\, 1st floor\, Cincinnati\, OH\, 45231\, United States
ORGANIZER;CN="Bill Kunes":MAILTO:bkunes@yahoo.com
END:VEVENT
BEGIN:VEVENT
DTSTART;TZID=America/New_York:20231008T083000
DTEND;TZID=America/New_York:20231008T093000
DTSTAMP:20260421T160113
CREATED:20230801T025633Z
LAST-MODIFIED:20230808T012822Z
UID:10000845-1696753800-1696757400@cincinnatichurch.org
SUMMARY:Sunday School
DESCRIPTION:Bible classes for adults
URL:https://cincinnatichurch.org/event/sunday-school-2023-08-20/2023-10-08/
LOCATION:Cardinal Huddle Room\, 4220 E galbraith rd\, 1st floor\, Cincinnati\, OH\, 45231\, United States
ORGANIZER;CN="Bill Kunes":MAILTO:bkunes@yahoo.com
END:VEVENT
BEGIN:VEVENT
DTSTART;TZID=America/New_York:20231001T083000
DTEND;TZID=America/New_York:20231001T093000
DTSTAMP:20260421T160113
CREATED:20230801T025633Z
LAST-MODIFIED:20230808T012822Z
UID:10000844-1696149000-1696152600@cincinnatichurch.org
SUMMARY:Sunday School
DESCRIPTION:Bible classes for adults
URL:https://cincinnatichurch.org/event/sunday-school-2023-08-20/2023-10-01/
LOCATION:Cardinal Huddle Room\, 4220 E galbraith rd\, 1st floor\, Cincinnati\, OH\, 45231\, United States
ORGANIZER;CN="Bill Kunes":MAILTO:bkunes@yahoo.com
END:VEVENT
BEGIN:VEVENT
DTSTART;TZID=America/New_York:20230820T083000
DTEND;TZID=America/New_York:20230820T093000
DTSTAMP:20260421T160113
CREATED:20230801T025633Z
LAST-MODIFIED:20230808T012822Z
UID:10000839-1692520200-1692523800@cincinnatichurch.org
SUMMARY:Sunday School
DESCRIPTION:Bible classes for adults
URL:https://cincinnatichurch.org/event/sunday-school-2023-08-20/2023-08-20/
LOCATION:Cardinal Huddle Room\, 4220 E galbraith rd\, 1st floor\, Cincinnati\, OH\, 45231\, United States
ORGANIZER;CN="Bill Kunes":MAILTO:bkunes@yahoo.com
END:VEVENT
END:VCALENDAR