BEGIN:VCALENDAR
VERSION:2.0
PRODID:-//Cincinnati Church - ECPv6.11.0.1//NONSGML v1.0//EN
CALSCALE:GREGORIAN
METHOD:PUBLISH
X-WR-CALNAME:Cincinnati Church
X-ORIGINAL-URL:https://cincinnatichurch.org
X-WR-CALDESC:Events for Cincinnati Church
REFRESH-INTERVAL;VALUE=DURATION:PT1H
X-Robots-Tag:noindex
X-PUBLISHED-TTL:PT1H
BEGIN:VTIMEZONE
TZID:America/New_York
BEGIN:DAYLIGHT
TZOFFSETFROM:-0500
TZOFFSETTO:-0400
TZNAME:EDT
DTSTART:20230312T070000
END:DAYLIGHT
BEGIN:STANDARD
TZOFFSETFROM:-0400
TZOFFSETTO:-0500
TZNAME:EST
DTSTART:20231105T060000
END:STANDARD
BEGIN:DAYLIGHT
TZOFFSETFROM:-0500
TZOFFSETTO:-0400
TZNAME:EDT
DTSTART:20240310T070000
END:DAYLIGHT
BEGIN:STANDARD
TZOFFSETFROM:-0400
TZOFFSETTO:-0500
TZNAME:EST
DTSTART:20241103T060000
END:STANDARD
END:VTIMEZONE
BEGIN:VEVENT
DTSTART;VALUE=DATE:20231230
DTEND;VALUE=DATE:20240102
DTSTAMP:20260419T121000
CREATED:20231203T064942Z
LAST-MODIFIED:20231206T194206Z
UID:10001518-1703894400-1704153599@cincinnatichurch.org
SUMMARY:YP NYE Gala
DESCRIPTION:
URL:https://cincinnatichurch.org/event/yp-nye-gala/
LOCATION:OH
ORGANIZER;CN="Erica Brown":MAILTO:cincynyegala24@gmail.com
END:VEVENT
BEGIN:VEVENT
DTSTART;TZID=America/New_York:20240107T100000
DTEND;TZID=America/New_York:20240107T120000
DTSTAMP:20260419T121000
CREATED:20231203T062442Z
LAST-MODIFIED:20231203T062708Z
UID:10001252-1704621600-1704628800@cincinnatichurch.org
SUMMARY:Sunday Service
DESCRIPTION:
URL:https://cincinnatichurch.org/event/sunday-service-6/2024-01-07/
LOCATION:Church building – auditorium\, 4220 E galbraith rd\, Cincinnati\, OH\, 45231\, United States
END:VEVENT
BEGIN:VEVENT
DTSTART;TZID=America/New_York:20240110T190000
DTEND;TZID=America/New_York:20240110T203000
DTSTAMP:20260419T121000
CREATED:20231203T063315Z
LAST-MODIFIED:20231203T063315Z
UID:10001510-1704913200-1704918600@cincinnatichurch.org
SUMMARY:Congregational Midweek - 2024 kickoff
DESCRIPTION:
URL:https://cincinnatichurch.org/event/congregational-midweek-2024-kickoff/
LOCATION:Church building – auditorium\, 4220 E galbraith rd\, Cincinnati\, OH\, 45231\, United States
END:VEVENT
BEGIN:VEVENT
DTSTART;TZID=America/New_York:20240113T100000
DTEND;TZID=America/New_York:20240113T130000
DTSTAMP:20260419T121000
CREATED:20231203T063521Z
LAST-MODIFIED:20231203T063521Z
UID:10001511-1705140000-1705150800@cincinnatichurch.org
SUMMARY:Bible Talk Leaders 2024 Kickoff Meeting - Columbus and Dayton joining
DESCRIPTION:
URL:https://cincinnatichurch.org/event/bible-talk-leaders-2024-kickoff-meeting-columbus-and-dayton-joining/
LOCATION:Church building – auditorium\, 4220 E galbraith rd\, Cincinnati\, OH\, 45231\, United States
END:VEVENT
BEGIN:VEVENT
DTSTART;TZID=America/New_York:20240114T100000
DTEND;TZID=America/New_York:20240114T120000
DTSTAMP:20260419T121000
CREATED:20231203T062442Z
LAST-MODIFIED:20231203T062708Z
UID:10001253-1705226400-1705233600@cincinnatichurch.org
SUMMARY:Sunday Service
DESCRIPTION:
URL:https://cincinnatichurch.org/event/sunday-service-6/2024-01-14/
LOCATION:Church building – auditorium\, 4220 E galbraith rd\, Cincinnati\, OH\, 45231\, United States
END:VEVENT
BEGIN:VEVENT
DTSTART;TZID=America/New_York:20240121T100000
DTEND;TZID=America/New_York:20240121T120000
DTSTAMP:20260419T121000
CREATED:20231203T062442Z
LAST-MODIFIED:20231203T062708Z
UID:10001254-1705831200-1705838400@cincinnatichurch.org
SUMMARY:Sunday Service
DESCRIPTION:
URL:https://cincinnatichurch.org/event/sunday-service-6/2024-01-21/
LOCATION:Church building – auditorium\, 4220 E galbraith rd\, Cincinnati\, OH\, 45231\, United States
END:VEVENT
BEGIN:VEVENT
DTSTART;TZID=America/New_York:20240128T100000
DTEND;TZID=America/New_York:20240128T120000
DTSTAMP:20260419T121000
CREATED:20231203T062442Z
LAST-MODIFIED:20231203T062708Z
UID:10001255-1706436000-1706443200@cincinnatichurch.org
SUMMARY:Sunday Service
DESCRIPTION:
URL:https://cincinnatichurch.org/event/sunday-service-6/2024-01-28/
LOCATION:Church building – auditorium\, 4220 E galbraith rd\, Cincinnati\, OH\, 45231\, United States
END:VEVENT
BEGIN:VEVENT
DTSTART;TZID=America/New_York:20240131T190000
DTEND;TZID=America/New_York:20240131T210000
DTSTAMP:20260419T121000
CREATED:20231203T063728Z
LAST-MODIFIED:20231203T063728Z
UID:10001512-1706727600-1706734800@cincinnatichurch.org
SUMMARY:Congregational Midweek - Annual Meeting
DESCRIPTION:
URL:https://cincinnatichurch.org/event/congregational-midweek-annual-meeting/
LOCATION:Church building – auditorium\, 4220 E galbraith rd\, Cincinnati\, OH\, 45231\, United States
END:VEVENT
END:VCALENDAR