BEGIN:VCALENDAR
VERSION:2.0
PRODID:-//Cincinnati Church - ECPv6.11.0.1//NONSGML v1.0//EN
CALSCALE:GREGORIAN
METHOD:PUBLISH
X-ORIGINAL-URL:https://cincinnatichurch.org
X-WR-CALDESC:Events for Cincinnati Church
REFRESH-INTERVAL;VALUE=DURATION:PT1H
X-Robots-Tag:noindex
X-PUBLISHED-TTL:PT1H
BEGIN:VTIMEZONE
TZID:America/New_York
BEGIN:DAYLIGHT
TZOFFSETFROM:-0500
TZOFFSETTO:-0400
TZNAME:EDT
DTSTART:20220313T070000
END:DAYLIGHT
BEGIN:STANDARD
TZOFFSETFROM:-0400
TZOFFSETTO:-0500
TZNAME:EST
DTSTART:20221106T060000
END:STANDARD
END:VTIMEZONE
BEGIN:VEVENT
DTSTART;TZID=America/New_York:20221001T100000
DTEND;TZID=America/New_York:20221001T120000
DTSTAMP:20260425T071955
CREATED:20220222T052354Z
LAST-MODIFIED:20220720T171045Z
UID:10000593-1664618400-1664625600@cincinnatichurch.org
SUMMARY:Young Families Devotional
DESCRIPTION:
URL:https://cincinnatichurch.org/event/young-families-devotional-2022-09-24/
LOCATION:Cincinnati Church of Christ\, 4220 E Galbraith Rd\, Cincinnati\, OH\, 45236\, United States
END:VEVENT
BEGIN:VEVENT
DTSTART;TZID=America/New_York:20221001T180000
DTEND;TZID=America/New_York:20221001T210000
DTSTAMP:20260425T071955
CREATED:20220918T223018Z
LAST-MODIFIED:20220918T223033Z
UID:10000507-1664647200-1664658000@cincinnatichurch.org
SUMMARY:Teen Event - Niederman Farms
DESCRIPTION:
URL:https://cincinnatichurch.org/event/niederman-farms/
LOCATION:Niederman Family Farms\, 5110 Lesourdsville West Chester Rd\, Liberty Township\, Ohio\, 45011
END:VEVENT
END:VCALENDAR