BEGIN:VCALENDAR
VERSION:2.0
PRODID:-//Cincinnati Church - ECPv6.11.0.1//NONSGML v1.0//EN
CALSCALE:GREGORIAN
METHOD:PUBLISH
X-ORIGINAL-URL:https://cincinnatichurch.org
X-WR-CALDESC:Events for Cincinnati Church
REFRESH-INTERVAL;VALUE=DURATION:PT1H
X-Robots-Tag:noindex
X-PUBLISHED-TTL:PT1H
BEGIN:VTIMEZONE
TZID:America/New_York
BEGIN:DAYLIGHT
TZOFFSETFROM:-0500
TZOFFSETTO:-0400
TZNAME:EDT
DTSTART:20220313T070000
END:DAYLIGHT
BEGIN:STANDARD
TZOFFSETFROM:-0400
TZOFFSETTO:-0500
TZNAME:EST
DTSTART:20221106T060000
END:STANDARD
END:VTIMEZONE
BEGIN:VEVENT
DTSTART;VALUE=DATE:20220731
DTEND;VALUE=DATE:20220808
DTSTAMP:20260421T003451
CREATED:20220605T234514Z
LAST-MODIFIED:20220605T234514Z
UID:10000790-1659225600-1659916799@cincinnatichurch.org
SUMMARY:World Discipleship Summit
DESCRIPTION:
URL:https://cincinnatichurch.org/event/world-discipleship-summit/
LOCATION:Orange County Convention Center\, 9400 Universal Blvd\, Orlando\, FL\, 32819
END:VEVENT
BEGIN:VEVENT
DTSTART;TZID=America/New_York:20220731T100000
DTEND;TZID=America/New_York:20220731T120000
DTSTAMP:20260421T003451
CREATED:20220222T052639Z
LAST-MODIFIED:20220701T182002Z
UID:10000616-1659261600-1659268800@cincinnatichurch.org
SUMMARY:Sunday Service
DESCRIPTION:
URL:https://cincinnatichurch.org/event/sunday-service-2/2022-07-31/
LOCATION:Cincinnati Church of Christ\, 4220 E Galbraith Rd\, Cincinnati\, OH\, 45236\, United States
END:VEVENT
END:VCALENDAR